BEGIN:VCALENDAR
VERSION:2.0
PRODID:-//wp-events-plugin.com//7.2.3.1//EN
TZID:America/New_York
X-WR-TIMEZONE:America/New_York
BEGIN:VEVENT
UID:1889@evenements.onf.ca
DTSTART;TZID=America/New_York:20260214T153000
DTEND;TZID=America/New_York:20260214T153000
DTSTAMP:20260128T203223Z
URL:https://evenements.onf.ca/evenements/vues-dans-la-tete-de/
SUMMARY:Vues dans la tête de -
DESCRIPTION:Le court métrage La jeune fille qui pleurait des perles sera p
 résenté dans le cadre du festival Vues dans la tête de\, le samedi 14 f
 évrier à 15h30.\n\nPour plus d'informations Compétition Court Toujours 
 2026 – Vues dans la tête de Rivière-du-Loup\n\n\nLa jeune fille qui pl
 eurait des perles\n\n\nChris Lavis &amp\; Maciek Szczerbowski\n\n2025
  17 min Animation \n\n\n\n\n\n\nNommé aux Oscars®\, catégorie Meille
 ur court métrage d'animation
ATTACH;FMTTYPE=image/jpeg:https://evenements.onf.ca/wp-content/uploads/202
 6/01/Banner_MEDIA-SPACE_1440x810_FR.jpg
CATEGORIES:Festivals
LOCATION:Cinéma Princesse\, 345\, rue Lafontaine\, Rivière-du-Loup\,  Que
 bec \, G5R 3B2\, Canada
GEO:47.8315097;-69.5358539
X-APPLE-STRUCTURED-LOCATION;VALUE=URI;X-ADDRESS=345\, rue Lafontaine\, Rivi
 ère-du-Loup\,  Quebec \, G5R 3B2\, Canada;X-APPLE-RADIUS=100;X-TITLE=Cin
 éma Princesse:geo:47.8315097,-69.5358539
END:VEVENT
BEGIN:VTIMEZONE
TZID:America/New_York
X-LIC-LOCATION:America/New_York
BEGIN:STANDARD
DTSTART:20251102T010000
TZOFFSETFROM:-0400
TZOFFSETTO:-0500
TZNAME:EST
END:STANDARD
END:VTIMEZONE
END:VCALENDAR