BEGIN:VCALENDAR
VERSION:2.0
PRODID:-//wp-events-plugin.com//7.2.3.1//EN
TZID:America/New_York
X-WR-TIMEZONE:America/New_York
BEGIN:VEVENT
UID:1856@evenements.onf.ca
DTSTART;TZID=America/New_York;VALUE=DATE:20250930
DTEND;TZID=America/New_York;VALUE=DATE:20251001
DTSTAMP:20250826T184425Z
URL:https://evenements.onf.ca/evenements/wilfred-buck-a-la-bibliotheque-li
 sette-morin-rimouski/
SUMMARY:Wilfred Buck à la Bibliothèque Lisette-Morin (Rimouski)
DESCRIPTION:Dans le cadre du programme L’ONF EN BIBLIO\, la Bibliothèque
  Lisette-Morin présentera Wilfred Buck.\n\nWilfred Buck | Lisa Jackson | 
 2024 | 96 min\n\nIl est « de ce peuple fraîchement sorti du bois\, à
  demi civilisé\, colonisé\, déplacé » et il est là pour nous mener
  jusqu’aux étoiles. Le portrait que brosse Lisa Jackson de l’aîné c
 ri Wilfred Buck évolue entre terre et ciel\, passé et présent\, faisant
  renaître de séculaires enseignements d’astronomie et de cosmologie au
 tochtones pour raconter une histoire qui se déploie sur des générations
 . Adapté des mémoires du protagoniste\, I Have Lived Four Lives\, le fi
 lm rassemble divers épisodes de sa vie\, dont les années de déplacement
  forcé et de toxicomanie qui ont marqué sa jeunesse. Ce documentaire int
 imiste et néanmoins exubérant entremêle des scènes actuelles\, des rec
 onstitutions du passé et des plans d’archives pour nous entraîner sur 
 l’inspirante trajectoire des espaces qui nous dépassent et de ceux qui 
 nous séparent.\n\nWilfred Buck | BANDE-ANNONCE\n\n___________________\n\n
 PROJECTION GRATUITE\nPour plus de renseignements\, consulter le calendrier
  des événements de la ville de Rimouski.
ATTACH;FMTTYPE=image/jpeg:https://evenements.onf.ca/wp-content/uploads/202
 4/11/WilfredBuck_Wilfred_Buck_Eagle_Shirt-scaled.jpg
CATEGORIES:En salle,Événement gratuit,L'ONF EN
 BIBLIO,Projections,Wilfred Buck
LOCATION:Bibliothèque Lisette-Morin\, 110\, rue de l'Évêché est\, Rimou
 ski\, Québec\, G5L 7C7\, Canada
GEO:48.451855;-68.52044
X-APPLE-STRUCTURED-LOCATION;VALUE=URI;X-ADDRESS=110\, rue de l'Évêché es
 t\, Rimouski\, Québec\, G5L 7C7\, Canada;X-APPLE-RADIUS=100;X-TITLE=Bibli
 othèque Lisette-Morin:geo:48.451855,-68.52044
END:VEVENT
BEGIN:VTIMEZONE
TZID:America/New_York
X-LIC-LOCATION:America/New_York
BEGIN:DAYLIGHT
DTSTART:20250309T030000
TZOFFSETFROM:-0500
TZOFFSETTO:-0400
TZNAME:EDT
END:DAYLIGHT
END:VTIMEZONE
END:VCALENDAR